BEGIN:VCALENDAR
VERSION:2.0
CALSCALE:GREGORIAN
PRODID:-//WordPress//RSVPMaker//EN
METHOD:REQUEST
BEGIN:VEVENT
DTSTAMP:20260421T124957Z
UID:A8BAA56554F96369AB93E4F3BB068C22@rsvpmaker.com
SEQUENCE:0
STATUS:CONFIRMED
DTSTART:20191204T170000Z
DTEND:20191204T180000Z
LOCATION:See\: https\://events.swsig.de/rsvpmaker/weihnachtsmarkt-bonn
 -2019-12-4/
SUMMARY:Weihnachtsmarkt Bonn
DESCRIPTION:Event info\: https\://events.swsig.de/rsvpmaker/weihnachts
 markt-bonn-2019-12-4/
END:VEVENT
END:VCALENDAR