BEGIN:VCALENDAR
VERSION:2.0
CALSCALE:GREGORIAN
PRODID:-//WordPress//RSVPMaker//EN
METHOD:REQUEST
BEGIN:VEVENT
DTSTAMP:20260421T111632Z
UID:F899139DF5E1059396431415E770C6DD@rsvpmaker.com
SEQUENCE:0
STATUS:CONFIRMED
DTSTART:20191114T170000Z
DTEND:20191114T180000Z
LOCATION:See\: https\://events.swsig.de/rsvpmaker/escape-room-tatort-2
 019-11-14/
SUMMARY:Escape Room Tatort
DESCRIPTION:Event info\: https\://events.swsig.de/rsvpmaker/escape-roo
 m-tatort-2019-11-14/
END:VEVENT
END:VCALENDAR