BEGIN:VCALENDAR
VERSION:2.0
CALSCALE:GREGORIAN
PRODID:-//WordPress//RSVPMaker//EN
METHOD:REQUEST
BEGIN:VEVENT
DTSTAMP:20260421T112847Z
UID:903CE9225FCA3E988C2AF215D4E544D3@rsvpmaker.com
SEQUENCE:0
STATUS:CONFIRMED
DTSTART:20191212T170000Z
DTEND:20191212T180000Z
LOCATION:See\: https\://events.swsig.de/rsvpmaker/dt-movienight-2019-1
 2-12/
SUMMARY:DT Movienight
DESCRIPTION:Event info\: https\://events.swsig.de/rsvpmaker/dt-movieni
 ght-2019-12-12/
END:VEVENT
END:VCALENDAR