BEGIN:VCALENDAR
VERSION:2.0
CALSCALE:GREGORIAN
PRODID:-//WordPress//RSVPMaker//EN
METHOD:REQUEST
BEGIN:VEVENT
DTSTAMP:20260423T085643Z
UID:72B32A1F754BA1C09B3695E0CB6CDE7F@rsvpmaker.com
SEQUENCE:0
STATUS:CONFIRMED
DTSTART:20191114T183000Z
DTEND:20191114T193000Z
LOCATION:See\: https\://events.swsig.de/rsvpmaker/dinner-after-escape-
 2019-11-14/
SUMMARY:Dinner After Escape
DESCRIPTION:Event info\: https\://events.swsig.de/rsvpmaker/dinner-aft
 er-escape-2019-11-14/
END:VEVENT
END:VCALENDAR